BEGIN:VCALENDAR
VERSION:2.0
PRODID:-//Abgeordneter Sven Hornauf - ECPv6.15.20//NONSGML v1.0//EN
CALSCALE:GREGORIAN
METHOD:PUBLISH
X-WR-CALNAME:Abgeordneter Sven Hornauf
X-ORIGINAL-URL:https://hornauf.org
X-WR-CALDESC:Veranstaltungen für Abgeordneter Sven Hornauf
REFRESH-INTERVAL;VALUE=DURATION:PT1H
X-Robots-Tag:noindex
X-PUBLISHED-TTL:PT1H
BEGIN:VTIMEZONE
TZID:UTC
BEGIN:STANDARD
TZOFFSETFROM:+0000
TZOFFSETTO:+0000
TZNAME:UTC
DTSTART:20250101T000000
END:STANDARD
END:VTIMEZONE
BEGIN:VEVENT
DTSTART;TZID=UTC:20260621T170000
DTEND;TZID=UTC:20260621T170000
DTSTAMP:20260422T143237
CREATED:20260422T064053Z
LAST-MODIFIED:20260422T071155Z
UID:2062-1782061200-1782061200@hornauf.org
SUMMARY:Infoabend zur Kriegsdienstverweigerung
DESCRIPTION:Ulrich Klotzek (Vizepräsident Deutscher Friedensrat e.V.) und Anja Mewes (Vorsitzende Friedensglockengesellschaft Berlin e.V.) informieren über die aktuelle Rechtslage zur Kriegsdienstverweigerung und bieten Raum für Fragen und Austausch. \n\n 
URL:https://hornauf.org/termin/infoabend-zur-kriegsdienstverweigerung/
LOCATION:Abgeordnetenbüro Ffo.\, Große Scharrnstr. 32\, Frankfurt (Oder)\, Brandenburg\, 15230\, Germany
ATTACH;FMTTYPE=image/jpeg:https://hornauf.org/wp-content/uploads/2026/04/kriegsdienstverweigerung.jpg
END:VEVENT
END:VCALENDAR